BEGIN:VCALENDAR
VERSION:2.0
PRODID:-//Ocean Lakes High School Football - ECPv6.15.20//NONSGML v1.0//EN
CALSCALE:GREGORIAN
METHOD:PUBLISH
X-WR-CALNAME:Ocean Lakes High School Football
X-ORIGINAL-URL:https://oceanlakes-football.com
X-WR-CALDESC:Events for Ocean Lakes High School Football
REFRESH-INTERVAL;VALUE=DURATION:PT1H
X-Robots-Tag:noindex
X-PUBLISHED-TTL:PT1H
BEGIN:VTIMEZONE
TZID:UTC
BEGIN:STANDARD
TZOFFSETFROM:+0000
TZOFFSETTO:+0000
TZNAME:UTC
DTSTART:20240101T000000
END:STANDARD
END:VTIMEZONE
BEGIN:VEVENT
DTSTART;VALUE=DATE:20250816
DTEND;VALUE=DATE:20250817
DTSTAMP:20260421T223726
CREATED:20250523T004200Z
LAST-MODIFIED:20250523T004200Z
UID:2737-1755302400-1755388799@oceanlakes-football.com
SUMMARY:PRACTICE 8am-11pm
DESCRIPTION:
URL:https://oceanlakes-football.com/event/practice-8am-11pm/
CATEGORIES:Calendar
END:VEVENT
BEGIN:VEVENT
DTSTART;VALUE=DATE:20250815
DTEND;VALUE=DATE:20250816
DTSTAMP:20260421T223726
CREATED:20250523T004349Z
LAST-MODIFIED:20250523T004848Z
UID:2742-1755216000-1755302399@oceanlakes-football.com
SUMMARY:SCRIMMAGE OLHS @ POQUOSON 6pm
DESCRIPTION:
URL:https://oceanlakes-football.com/event/scrimmage-olhs-poquoson-6pm/
CATEGORIES:Calendar
END:VEVENT
BEGIN:VEVENT
DTSTART;VALUE=DATE:20250814
DTEND;VALUE=DATE:20250815
DTSTAMP:20260421T223726
CREATED:20250523T003951Z
LAST-MODIFIED:20250523T003951Z
UID:2732-1755129600-1755215999@oceanlakes-football.com
SUMMARY:PRACTICE 4-6pm
DESCRIPTION:
URL:https://oceanlakes-football.com/event/practice-4-6pm/
CATEGORIES:Calendar
END:VEVENT
BEGIN:VEVENT
DTSTART;VALUE=DATE:20250813
DTEND;VALUE=DATE:20250814
DTSTAMP:20260421T223726
CREATED:20250523T003753Z
LAST-MODIFIED:20250523T003911Z
UID:2729-1755043200-1755129599@oceanlakes-football.com
SUMMARY:PRACTICE 4-730pm
DESCRIPTION:
URL:https://oceanlakes-football.com/event/practice-4-730pm-3/
CATEGORIES:Calendar
END:VEVENT
BEGIN:VEVENT
DTSTART;VALUE=DATE:20250812
DTEND;VALUE=DATE:20250813
DTSTAMP:20260421T223726
CREATED:20250523T003737Z
LAST-MODIFIED:20250523T003737Z
UID:2728-1754956800-1755043199@oceanlakes-football.com
SUMMARY:PRACTICE 4-730pm
DESCRIPTION:
URL:https://oceanlakes-football.com/event/practice-4-730pm-2/
CATEGORIES:Calendar
END:VEVENT
BEGIN:VEVENT
DTSTART;VALUE=DATE:20250811
DTEND;VALUE=DATE:20250812
DTSTAMP:20260421T223726
CREATED:20250523T003710Z
LAST-MODIFIED:20250523T003710Z
UID:2726-1754870400-1754956799@oceanlakes-football.com
SUMMARY:PRACTICE 4-730pm
DESCRIPTION:
URL:https://oceanlakes-football.com/event/practice-4-730pm/
CATEGORIES:Calendar
END:VEVENT
BEGIN:VEVENT
DTSTART;VALUE=DATE:20250810
DTEND;VALUE=DATE:20250811
DTSTAMP:20260421T223726
CREATED:20250523T003525Z
LAST-MODIFIED:20250523T003525Z
UID:2718-1754784000-1754870399@oceanlakes-football.com
SUMMARY:NO PRACTICE
DESCRIPTION:
URL:https://oceanlakes-football.com/event/no-practice-10/
CATEGORIES:Calendar
END:VEVENT
BEGIN:VEVENT
DTSTART;VALUE=DATE:20250809
DTEND;VALUE=DATE:20250810
DTSTAMP:20260421T223726
CREATED:20250523T004120Z
LAST-MODIFIED:20250523T020224Z
UID:2736-1754697600-1754783999@oceanlakes-football.com
SUMMARY:PRACTICE/TEAM DAY 7am-12pm
DESCRIPTION:
URL:https://oceanlakes-football.com/event/practice-7am-12pm-2/
CATEGORIES:Calendar
END:VEVENT
BEGIN:VEVENT
DTSTART;VALUE=DATE:20250808
DTEND;VALUE=DATE:20250809
DTSTAMP:20260421T223726
CREATED:20250523T003300Z
LAST-MODIFIED:20250523T003300Z
UID:2714-1754611200-1754697599@oceanlakes-football.com
SUMMARY:PRACTICE 330-830pm
DESCRIPTION:
URL:https://oceanlakes-football.com/event/practice-330-830pm-6/
CATEGORIES:Calendar
END:VEVENT
BEGIN:VEVENT
DTSTART;VALUE=DATE:20250807
DTEND;VALUE=DATE:20250808
DTSTAMP:20260421T223726
CREATED:20250523T003219Z
LAST-MODIFIED:20250523T003219Z
UID:2707-1754524800-1754611199@oceanlakes-football.com
SUMMARY:PRACTICE 330-830pm
DESCRIPTION:
URL:https://oceanlakes-football.com/event/practice-330-830pm-5/
CATEGORIES:Calendar
END:VEVENT
BEGIN:VEVENT
DTSTART;VALUE=DATE:20250806
DTEND;VALUE=DATE:20250807
DTSTAMP:20260421T223726
CREATED:20250523T003150Z
LAST-MODIFIED:20250523T003150Z
UID:2708-1754438400-1754524799@oceanlakes-football.com
SUMMARY:PRACTICE 330-830pm
DESCRIPTION:
URL:https://oceanlakes-football.com/event/practice-330-830pm-4/
CATEGORIES:Calendar
END:VEVENT
BEGIN:VEVENT
DTSTART;VALUE=DATE:20250805
DTEND;VALUE=DATE:20250806
DTSTAMP:20260421T223726
CREATED:20250523T003127Z
LAST-MODIFIED:20250523T003127Z
UID:2709-1754352000-1754438399@oceanlakes-football.com
SUMMARY:PRACTICE 330-830pm
DESCRIPTION:
URL:https://oceanlakes-football.com/event/practice-330-830pm-3/
CATEGORIES:Calendar
END:VEVENT
BEGIN:VEVENT
DTSTART;VALUE=DATE:20250804
DTEND;VALUE=DATE:20250805
DTSTAMP:20260421T223726
CREATED:20250523T003103Z
LAST-MODIFIED:20250523T003103Z
UID:2706-1754265600-1754351999@oceanlakes-football.com
SUMMARY:PRACTICE 330-830pm
DESCRIPTION:
URL:https://oceanlakes-football.com/event/practice-330-830pm-2/
CATEGORIES:Calendar
END:VEVENT
BEGIN:VEVENT
DTSTART;VALUE=DATE:20250803
DTEND;VALUE=DATE:20250804
DTSTAMP:20260421T223726
CREATED:20250523T003438Z
LAST-MODIFIED:20250523T003438Z
UID:2716-1754179200-1754265599@oceanlakes-football.com
SUMMARY:NO PRACTICE
DESCRIPTION:
URL:https://oceanlakes-football.com/event/no-practice-9/
CATEGORIES:Calendar
END:VEVENT
BEGIN:VEVENT
DTSTART;VALUE=DATE:20250802
DTEND;VALUE=DATE:20250803
DTSTAMP:20260421T223726
CREATED:20250523T004038Z
LAST-MODIFIED:20250523T004038Z
UID:2734-1754092800-1754179199@oceanlakes-football.com
SUMMARY:PRACTICE 7am-12pm
DESCRIPTION:
URL:https://oceanlakes-football.com/event/practice-7am-12pm/
CATEGORIES:Calendar
END:VEVENT
BEGIN:VEVENT
DTSTART;VALUE=DATE:20250801
DTEND;VALUE=DATE:20250802
DTSTAMP:20260421T223726
CREATED:20250523T004257Z
LAST-MODIFIED:20250523T004257Z
UID:2740-1754006400-1754092799@oceanlakes-football.com
SUMMARY:PRACTICE 330-830pm
DESCRIPTION:
URL:https://oceanlakes-football.com/event/practice-330-830pm-7/
CATEGORIES:Calendar
END:VEVENT
BEGIN:VEVENT
DTSTART;VALUE=DATE:20250731
DTEND;VALUE=DATE:20250801
DTSTAMP:20260421T223726
CREATED:20250523T002838Z
LAST-MODIFIED:20250523T002838Z
UID:2704-1753920000-1754006399@oceanlakes-football.com
SUMMARY:PRACTICE 330-830pm
DESCRIPTION:
URL:https://oceanlakes-football.com/event/practice-330-830pm/
CATEGORIES:Calendar
END:VEVENT
BEGIN:VEVENT
DTSTART;VALUE=DATE:20250730
DTEND;VALUE=DATE:20250731
DTSTAMP:20260421T223726
CREATED:20250523T002636Z
LAST-MODIFIED:20250523T002636Z
UID:2702-1753833600-1753919999@oceanlakes-football.com
SUMMARY:MEET COACHES SOCIAL @ SHOREBREAK 6-8pm
DESCRIPTION:
URL:https://oceanlakes-football.com/event/meet-coaches-social-shorebreak-6-8pm/
CATEGORIES:Calendar
END:VEVENT
BEGIN:VEVENT
DTSTART;VALUE=DATE:20250728
DTEND;VALUE=DATE:20250729
DTSTAMP:20260421T223726
CREATED:20250523T002612Z
LAST-MODIFIED:20250523T002612Z
UID:2700-1753660800-1753747199@oceanlakes-football.com
SUMMARY:PRESEASON PARENT/PLAYER MEETING @ OLHS 6-730pm
DESCRIPTION:
URL:https://oceanlakes-football.com/event/preseason-parent-player-meeting-olhs-6-730pm/
CATEGORIES:Calendar
END:VEVENT
BEGIN:VEVENT
DTSTART;VALUE=DATE:20250726
DTEND;VALUE=DATE:20250727
DTSTAMP:20260421T223726
CREATED:20250523T002227Z
LAST-MODIFIED:20250523T002227Z
UID:2695-1753488000-1753574399@oceanlakes-football.com
SUMMARY:OLHS WORKOUTS + FIELD WORK 9am-12PM
DESCRIPTION:
URL:https://oceanlakes-football.com/event/olhs-workouts-field-work-9am-12pm-3/
CATEGORIES:Calendar
END:VEVENT
BEGIN:VEVENT
DTSTART;VALUE=DATE:20250724
DTEND;VALUE=DATE:20250725
DTSTAMP:20260421T223726
CREATED:20250523T002121Z
LAST-MODIFIED:20250523T002121Z
UID:2689-1753315200-1753401599@oceanlakes-football.com
SUMMARY:OLHS WORKOUTS + FIELDWORK 4-730pm
DESCRIPTION:
URL:https://oceanlakes-football.com/event/olhs-workouts-fieldwork-4-730pm-6/
CATEGORIES:Calendar
END:VEVENT
BEGIN:VEVENT
DTSTART;VALUE=DATE:20250722
DTEND;VALUE=DATE:20250723
DTSTAMP:20260421T223726
CREATED:20250523T020056Z
LAST-MODIFIED:20250523T020056Z
UID:2932-1753142400-1753228799@oceanlakes-football.com
SUMMARY:OLHS GOLF TOURNAMENT 7:30am
DESCRIPTION:
URL:https://oceanlakes-football.com/event/olhs-golf-tournament-730am/
CATEGORIES:Calendar
END:VEVENT
BEGIN:VEVENT
DTSTART;VALUE=DATE:20250722
DTEND;VALUE=DATE:20250723
DTSTAMP:20260421T223726
CREATED:20250523T002050Z
LAST-MODIFIED:20250523T002050Z
UID:2687-1753142400-1753228799@oceanlakes-football.com
SUMMARY:OLHS WORKOUTS + FIELDWORK 4-730pm
DESCRIPTION:
URL:https://oceanlakes-football.com/event/olhs-workouts-fieldwork-4-730pm-5/
CATEGORIES:Calendar
END:VEVENT
BEGIN:VEVENT
DTSTART;VALUE=DATE:20250721
DTEND;VALUE=DATE:20250722
DTSTAMP:20260421T223726
CREATED:20250523T002523Z
LAST-MODIFIED:20250523T002523Z
UID:2698-1753056000-1753142399@oceanlakes-football.com
SUMMARY:OLHS WORKOUTS 4-6pm
DESCRIPTION:
URL:https://oceanlakes-football.com/event/olhs-workouts-4-6pm-3/
CATEGORIES:Calendar
END:VEVENT
BEGIN:VEVENT
DTSTART;VALUE=DATE:20250719
DTEND;VALUE=DATE:20250720
DTSTAMP:20260421T223726
CREATED:20250523T002209Z
LAST-MODIFIED:20250523T002209Z
UID:2694-1752883200-1752969599@oceanlakes-football.com
SUMMARY:OLHS WORKOUTS + FIELD WORK 9am-12PM
DESCRIPTION:
URL:https://oceanlakes-football.com/event/olhs-workouts-field-work-9am-12pm-2/
CATEGORIES:Calendar
END:VEVENT
BEGIN:VEVENT
DTSTART;VALUE=DATE:20250717
DTEND;VALUE=DATE:20250718
DTSTAMP:20260421T223726
CREATED:20250523T002025Z
LAST-MODIFIED:20250523T002025Z
UID:2688-1752710400-1752796799@oceanlakes-football.com
SUMMARY:OLHS WORKOUTS + FIELDWORK 4-730pm
DESCRIPTION:
URL:https://oceanlakes-football.com/event/olhs-workouts-fieldwork-4-730pm-4/
CATEGORIES:Calendar
END:VEVENT
BEGIN:VEVENT
DTSTART;VALUE=DATE:20250715
DTEND;VALUE=DATE:20250716
DTSTAMP:20260421T223726
CREATED:20250523T002004Z
LAST-MODIFIED:20250523T002004Z
UID:2686-1752537600-1752623999@oceanlakes-football.com
SUMMARY:OLHS WORKOUTS + FIELDWORK 4-730pm
DESCRIPTION:
URL:https://oceanlakes-football.com/event/olhs-workouts-fieldwork-4-730pm-3/
CATEGORIES:Calendar
END:VEVENT
BEGIN:VEVENT
DTSTART;VALUE=DATE:20250714
DTEND;VALUE=DATE:20250715
DTSTAMP:20260421T223726
CREATED:20250523T001913Z
LAST-MODIFIED:20250523T001913Z
UID:2684-1752451200-1752537599@oceanlakes-football.com
SUMMARY:OLHS WORKOUTS 4-6pm
DESCRIPTION:
URL:https://oceanlakes-football.com/event/olhs-workouts-4-6pm-2/
CATEGORIES:Calendar
END:VEVENT
BEGIN:VEVENT
DTSTART;VALUE=DATE:20250712
DTEND;VALUE=DATE:20250713
DTSTAMP:20260421T223726
CREATED:20250523T001831Z
LAST-MODIFIED:20250523T001831Z
UID:2682-1752278400-1752364799@oceanlakes-football.com
SUMMARY:OLHS WORKOUTS + FIELD WORK 9am-12PM
DESCRIPTION:
URL:https://oceanlakes-football.com/event/olhs-workouts-field-work-9am-12pm/
CATEGORIES:Calendar
END:VEVENT
BEGIN:VEVENT
DTSTART;VALUE=DATE:20250710
DTEND;VALUE=DATE:20250711
DTSTAMP:20260421T223726
CREATED:20250523T001809Z
LAST-MODIFIED:20250523T001809Z
UID:2680-1752105600-1752191999@oceanlakes-football.com
SUMMARY:OLHS WORKOUTS + FIELDWORK 4-730pm
DESCRIPTION:
URL:https://oceanlakes-football.com/event/olhs-workouts-fieldwork-4-730pm-2/
CATEGORIES:Calendar
END:VEVENT
END:VCALENDAR