BEGIN:VCALENDAR
VERSION:2.0
PRODID:-//Ocean Lakes High School Football - ECPv6.15.20//NONSGML v1.0//EN
CALSCALE:GREGORIAN
METHOD:PUBLISH
X-ORIGINAL-URL:https://oceanlakes-football.com
X-WR-CALDESC:Events for Ocean Lakes High School Football
REFRESH-INTERVAL;VALUE=DURATION:PT1H
X-Robots-Tag:noindex
X-PUBLISHED-TTL:PT1H
BEGIN:VTIMEZONE
TZID:UTC
BEGIN:STANDARD
TZOFFSETFROM:+0000
TZOFFSETTO:+0000
TZNAME:UTC
DTSTART:20240101T000000
END:STANDARD
END:VTIMEZONE
BEGIN:VEVENT
DTSTART;VALUE=DATE:20250907
DTEND;VALUE=DATE:20250908
DTSTAMP:20260421T193220
CREATED:20250523T010409Z
LAST-MODIFIED:20250523T010409Z
UID:2774-1757203200-1757289599@oceanlakes-football.com
SUMMARY:NO PRACTICE
DESCRIPTION:
URL:https://oceanlakes-football.com/event/no-practice-15/
CATEGORIES:Calendar
END:VEVENT
BEGIN:VEVENT
DTSTART;VALUE=DATE:20250906
DTEND;VALUE=DATE:20250907
DTSTAMP:20260421T193220
CREATED:20250523T010623Z
LAST-MODIFIED:20250523T010623Z
UID:2782-1757116800-1757203199@oceanlakes-football.com
SUMMARY:NO PRACTICE
DESCRIPTION:
URL:https://oceanlakes-football.com/event/no-practice-19/
CATEGORIES:Calendar
END:VEVENT
BEGIN:VEVENT
DTSTART;VALUE=DATE:20250905
DTEND;VALUE=DATE:20250906
DTSTAMP:20260421T193220
CREATED:20250523T012322Z
LAST-MODIFIED:20250523T012322Z
UID:2814-1757030400-1757116799@oceanlakes-football.com
SUMMARY:OLHS @ First Colonial 7pm
DESCRIPTION:
URL:https://oceanlakes-football.com/event/olhs-first-colonial-7pm/
CATEGORIES:Calendar
END:VEVENT
BEGIN:VEVENT
DTSTART;VALUE=DATE:20250904
DTEND;VALUE=DATE:20250905
DTSTAMP:20260421T193220
CREATED:20250523T012235Z
LAST-MODIFIED:20250903T212246Z
UID:2812-1756944000-1757030399@oceanlakes-football.com
SUMMARY:JV SCRIMMAGE vs Kempsville 630pm @ OLHS
DESCRIPTION:
URL:https://oceanlakes-football.com/event/jv-scrimmage-630pm-olhs/
CATEGORIES:Calendar
END:VEVENT
BEGIN:VEVENT
DTSTART;VALUE=DATE:20250904
DTEND;VALUE=DATE:20250905
DTSTAMP:20260421T193220
CREATED:20250523T011828Z
LAST-MODIFIED:20250523T011918Z
UID:2791-1756944000-1757030399@oceanlakes-football.com
SUMMARY:PRACTICE 330-530pm
DESCRIPTION:
URL:https://oceanlakes-football.com/event/practice-330-6pm-5/
CATEGORIES:Calendar
END:VEVENT
BEGIN:VEVENT
DTSTART;VALUE=DATE:20250903
DTEND;VALUE=DATE:20250904
DTSTAMP:20260421T193220
CREATED:20250523T011847Z
LAST-MODIFIED:20250523T011847Z
UID:2792-1756857600-1756943999@oceanlakes-football.com
SUMMARY:PRACTICE 330-6pm
DESCRIPTION:
URL:https://oceanlakes-football.com/event/practice-330-6pm-6/
CATEGORIES:Calendar
END:VEVENT
BEGIN:VEVENT
DTSTART;VALUE=DATE:20250902
DTEND;VALUE=DATE:20250903
DTSTAMP:20260421T193220
CREATED:20250523T010904Z
LAST-MODIFIED:20250523T010904Z
UID:2789-1756771200-1756857599@oceanlakes-football.com
SUMMARY:PRACTICE 330-6pm
DESCRIPTION:
URL:https://oceanlakes-football.com/event/practice-330-6pm-4/
CATEGORIES:Calendar
END:VEVENT
BEGIN:VEVENT
DTSTART;VALUE=DATE:20250901
DTEND;VALUE=DATE:20250902
DTSTAMP:20260421T193220
CREATED:20250523T010828Z
LAST-MODIFIED:20250523T010828Z
UID:2787-1756684800-1756771199@oceanlakes-football.com
SUMMARY:PRACTICE 8-11am
DESCRIPTION:
URL:https://oceanlakes-football.com/event/practice-8-11am/
CATEGORIES:Calendar
END:VEVENT
BEGIN:VEVENT
DTSTART;VALUE=DATE:20250831
DTEND;VALUE=DATE:20250901
DTSTAMP:20260421T193220
CREATED:20250523T003619Z
LAST-MODIFIED:20250523T003619Z
UID:2721-1756598400-1756684799@oceanlakes-football.com
SUMMARY:NO PRACTICE
DESCRIPTION:
URL:https://oceanlakes-football.com/event/no-practice-13/
CATEGORIES:Calendar
END:VEVENT
BEGIN:VEVENT
DTSTART;VALUE=DATE:20250830
DTEND;VALUE=DATE:20250831
DTSTAMP:20260421T193220
CREATED:20250523T004659Z
LAST-MODIFIED:20250523T004659Z
UID:2756-1756512000-1756598399@oceanlakes-football.com
SUMMARY:NO PRACTICE
DESCRIPTION:
URL:https://oceanlakes-football.com/event/no-practice-14/
CATEGORIES:Calendar
END:VEVENT
BEGIN:VEVENT
DTSTART;VALUE=DATE:20250829
DTEND;VALUE=DATE:20250830
DTSTAMP:20260421T193220
CREATED:20250523T005718Z
LAST-MODIFIED:20250523T010035Z
UID:2764-1756425600-1756511999@oceanlakes-football.com
SUMMARY:PRACTICE 4-630pm
DESCRIPTION:
URL:https://oceanlakes-football.com/event/practice-4-630pm/
CATEGORIES:Calendar
END:VEVENT
BEGIN:VEVENT
DTSTART;VALUE=DATE:20250828
DTEND;VALUE=DATE:20250829
DTSTAMP:20260421T193220
CREATED:20250523T010259Z
LAST-MODIFIED:20250523T010259Z
UID:2769-1756339200-1756425599@oceanlakes-football.com
SUMMARY:OLHS Bye Week
DESCRIPTION:
URL:https://oceanlakes-football.com/event/olhs-bye-week/
CATEGORIES:Calendar
END:VEVENT
BEGIN:VEVENT
DTSTART;VALUE=DATE:20250828
DTEND;VALUE=DATE:20250829
DTSTAMP:20260421T193220
CREATED:20250523T005631Z
LAST-MODIFIED:20250523T010055Z
UID:2763-1756339200-1756425599@oceanlakes-football.com
SUMMARY:PRACTICE 330-545pm
DESCRIPTION:
URL:https://oceanlakes-football.com/event/practice-330-545pm/
CATEGORIES:Calendar
END:VEVENT
BEGIN:VEVENT
DTSTART;VALUE=DATE:20250827
DTEND;VALUE=DATE:20250828
DTSTAMP:20260421T193220
CREATED:20250523T005318Z
LAST-MODIFIED:20250523T005318Z
UID:2762-1756252800-1756339199@oceanlakes-football.com
SUMMARY:PRACTICE 330-6pm
DESCRIPTION:
URL:https://oceanlakes-football.com/event/practice-330-6pm-3/
CATEGORIES:Calendar
END:VEVENT
BEGIN:VEVENT
DTSTART;VALUE=DATE:20250826
DTEND;VALUE=DATE:20250827
DTSTAMP:20260421T193220
CREATED:20250523T005302Z
LAST-MODIFIED:20250523T005302Z
UID:2761-1756166400-1756252799@oceanlakes-football.com
SUMMARY:PRACTICE 330-6pm
DESCRIPTION:
URL:https://oceanlakes-football.com/event/practice-330-6pm-2/
CATEGORIES:Calendar
END:VEVENT
BEGIN:VEVENT
DTSTART;VALUE=DATE:20250825
DTEND;VALUE=DATE:20250826
DTSTAMP:20260421T193220
CREATED:20250523T005019Z
LAST-MODIFIED:20250523T005019Z
UID:2759-1756080000-1756166399@oceanlakes-football.com
SUMMARY:PRACTICE 330-6pm
DESCRIPTION:
URL:https://oceanlakes-football.com/event/practice-330-6pm/
CATEGORIES:Calendar
END:VEVENT
BEGIN:VEVENT
DTSTART;VALUE=DATE:20250824
DTEND;VALUE=DATE:20250825
DTSTAMP:20260421T193220
CREATED:20250523T003600Z
LAST-MODIFIED:20250523T003600Z
UID:2720-1755993600-1756079999@oceanlakes-football.com
SUMMARY:NO PRACTICE
DESCRIPTION:
URL:https://oceanlakes-football.com/event/no-practice-12/
CATEGORIES:Calendar
END:VEVENT
BEGIN:VEVENT
DTSTART;VALUE=DATE:20250823
DTEND;VALUE=DATE:20250824
DTSTAMP:20260421T193220
CREATED:20250523T004638Z
LAST-MODIFIED:20250523T004638Z
UID:2754-1755907200-1755993599@oceanlakes-football.com
SUMMARY:PRACTICE 8am-11pm
DESCRIPTION:
URL:https://oceanlakes-football.com/event/practice-8am-11pm-2/
CATEGORIES:Calendar
END:VEVENT
BEGIN:VEVENT
DTSTART;VALUE=DATE:20250822
DTEND;VALUE=DATE:20250823
DTSTAMP:20260421T193220
CREATED:20250523T004425Z
LAST-MODIFIED:20250819T184004Z
UID:2744-1755820800-1755907199@oceanlakes-football.com
SUMMARY:SCRIMMAGE OLHS v. HICKORY 630pm
DESCRIPTION:
URL:https://oceanlakes-football.com/event/scrimmage-olhs-v-hickory-630pm/
CATEGORIES:Calendar
END:VEVENT
BEGIN:VEVENT
DTSTART;VALUE=DATE:20250821
DTEND;VALUE=DATE:20250822
DTSTAMP:20260421T193220
CREATED:20250523T004606Z
LAST-MODIFIED:20250819T184058Z
UID:2750-1755734400-1755820799@oceanlakes-football.com
SUMMARY:PRACTICE 4-6pm
DESCRIPTION:
URL:https://oceanlakes-football.com/event/practice-4-7pm-3/
CATEGORIES:Calendar
END:VEVENT
BEGIN:VEVENT
DTSTART;VALUE=DATE:20250820
DTEND;VALUE=DATE:20250821
DTSTAMP:20260421T193220
CREATED:20250523T004550Z
LAST-MODIFIED:20250819T184133Z
UID:2749-1755648000-1755734399@oceanlakes-football.com
SUMMARY:PRACTICE 4-7pm
DESCRIPTION:
URL:https://oceanlakes-football.com/event/practice-4-6pm-2/
CATEGORIES:Calendar
END:VEVENT
BEGIN:VEVENT
DTSTART;VALUE=DATE:20250819
DTEND;VALUE=DATE:20250820
DTSTAMP:20260421T193220
CREATED:20250523T004534Z
LAST-MODIFIED:20250523T004534Z
UID:2748-1755561600-1755647999@oceanlakes-football.com
SUMMARY:PRACTICE 4-7pm
DESCRIPTION:
URL:https://oceanlakes-football.com/event/practice-4-7pm-2/
CATEGORIES:Calendar
END:VEVENT
BEGIN:VEVENT
DTSTART;VALUE=DATE:20250818
DTEND;VALUE=DATE:20250819
DTSTAMP:20260421T193220
CREATED:20250523T004509Z
LAST-MODIFIED:20250523T004509Z
UID:2746-1755475200-1755561599@oceanlakes-football.com
SUMMARY:PRACTICE 4-7pm
DESCRIPTION:
URL:https://oceanlakes-football.com/event/practice-4-7pm/
CATEGORIES:Calendar
END:VEVENT
BEGIN:VEVENT
DTSTART;VALUE=DATE:20250817
DTEND;VALUE=DATE:20250818
DTSTAMP:20260421T193220
CREATED:20250523T003541Z
LAST-MODIFIED:20250523T003541Z
UID:2719-1755388800-1755475199@oceanlakes-football.com
SUMMARY:NO PRACTICE
DESCRIPTION:
URL:https://oceanlakes-football.com/event/no-practice-11/
CATEGORIES:Calendar
END:VEVENT
BEGIN:VEVENT
DTSTART;VALUE=DATE:20250816
DTEND;VALUE=DATE:20250817
DTSTAMP:20260421T193220
CREATED:20250523T004200Z
LAST-MODIFIED:20250523T004200Z
UID:2737-1755302400-1755388799@oceanlakes-football.com
SUMMARY:PRACTICE 8am-11pm
DESCRIPTION:
URL:https://oceanlakes-football.com/event/practice-8am-11pm/
CATEGORIES:Calendar
END:VEVENT
BEGIN:VEVENT
DTSTART;VALUE=DATE:20250815
DTEND;VALUE=DATE:20250816
DTSTAMP:20260421T193220
CREATED:20250523T004349Z
LAST-MODIFIED:20250523T004848Z
UID:2742-1755216000-1755302399@oceanlakes-football.com
SUMMARY:SCRIMMAGE OLHS @ POQUOSON 6pm
DESCRIPTION:
URL:https://oceanlakes-football.com/event/scrimmage-olhs-poquoson-6pm/
CATEGORIES:Calendar
END:VEVENT
BEGIN:VEVENT
DTSTART;VALUE=DATE:20250814
DTEND;VALUE=DATE:20250815
DTSTAMP:20260421T193220
CREATED:20250523T003951Z
LAST-MODIFIED:20250523T003951Z
UID:2732-1755129600-1755215999@oceanlakes-football.com
SUMMARY:PRACTICE 4-6pm
DESCRIPTION:
URL:https://oceanlakes-football.com/event/practice-4-6pm/
CATEGORIES:Calendar
END:VEVENT
BEGIN:VEVENT
DTSTART;VALUE=DATE:20250813
DTEND;VALUE=DATE:20250814
DTSTAMP:20260421T193220
CREATED:20250523T003753Z
LAST-MODIFIED:20250523T003911Z
UID:2729-1755043200-1755129599@oceanlakes-football.com
SUMMARY:PRACTICE 4-730pm
DESCRIPTION:
URL:https://oceanlakes-football.com/event/practice-4-730pm-3/
CATEGORIES:Calendar
END:VEVENT
BEGIN:VEVENT
DTSTART;VALUE=DATE:20250812
DTEND;VALUE=DATE:20250813
DTSTAMP:20260421T193220
CREATED:20250523T003737Z
LAST-MODIFIED:20250523T003737Z
UID:2728-1754956800-1755043199@oceanlakes-football.com
SUMMARY:PRACTICE 4-730pm
DESCRIPTION:
URL:https://oceanlakes-football.com/event/practice-4-730pm-2/
CATEGORIES:Calendar
END:VEVENT
BEGIN:VEVENT
DTSTART;VALUE=DATE:20250811
DTEND;VALUE=DATE:20250812
DTSTAMP:20260421T193220
CREATED:20250523T003710Z
LAST-MODIFIED:20250523T003710Z
UID:2726-1754870400-1754956799@oceanlakes-football.com
SUMMARY:PRACTICE 4-730pm
DESCRIPTION:
URL:https://oceanlakes-football.com/event/practice-4-730pm/
CATEGORIES:Calendar
END:VEVENT
END:VCALENDAR