BEGIN:VCALENDAR
VERSION:2.0
PRODID:-//Ocean Lakes High School Football - ECPv6.15.20//NONSGML v1.0//EN
CALSCALE:GREGORIAN
METHOD:PUBLISH
X-ORIGINAL-URL:https://oceanlakes-football.com
X-WR-CALDESC:Events for Ocean Lakes High School Football
REFRESH-INTERVAL;VALUE=DURATION:PT1H
X-Robots-Tag:noindex
X-PUBLISHED-TTL:PT1H
BEGIN:VTIMEZONE
TZID:UTC
BEGIN:STANDARD
TZOFFSETFROM:+0000
TZOFFSETTO:+0000
TZNAME:UTC
DTSTART:20240101T000000
END:STANDARD
END:VTIMEZONE
BEGIN:VEVENT
DTSTART;VALUE=DATE:20250928
DTEND;VALUE=DATE:20250929
DTSTAMP:20260421T162959
CREATED:20250523T010505Z
LAST-MODIFIED:20250523T010505Z
UID:2772-1759017600-1759103999@oceanlakes-football.com
SUMMARY:NO PRACTICE
DESCRIPTION:
URL:https://oceanlakes-football.com/event/no-practice-17/
CATEGORIES:Calendar
END:VEVENT
BEGIN:VEVENT
DTSTART;VALUE=DATE:20250927
DTEND;VALUE=DATE:20250928
DTSTAMP:20260421T162959
CREATED:20250523T010713Z
LAST-MODIFIED:20250523T010713Z
UID:2780-1758931200-1759017599@oceanlakes-football.com
SUMMARY:NO PRACTICE
DESCRIPTION:
URL:https://oceanlakes-football.com/event/no-practice-22/
CATEGORIES:Calendar
END:VEVENT
BEGIN:VEVENT
DTSTART;VALUE=DATE:20250926
DTEND;VALUE=DATE:20250927
DTSTAMP:20260421T162959
CREATED:20250523T012805Z
LAST-MODIFIED:20250523T012805Z
UID:2832-1758844800-1758931199@oceanlakes-football.com
SUMMARY:OLHS @ Princess Anne 7pm
DESCRIPTION:
URL:https://oceanlakes-football.com/event/olhs-princess-anne-7pm/
CATEGORIES:Calendar
END:VEVENT
BEGIN:VEVENT
DTSTART;VALUE=DATE:20250925
DTEND;VALUE=DATE:20250926
DTSTAMP:20260421T162959
CREATED:20250523T013011Z
LAST-MODIFIED:20250523T013011Z
UID:2828-1758758400-1758844799@oceanlakes-football.com
SUMMARY:PRACTICE 330-530pm
DESCRIPTION:
URL:https://oceanlakes-football.com/event/practice-330-530pm-3/
CATEGORIES:Calendar
END:VEVENT
BEGIN:VEVENT
DTSTART;VALUE=DATE:20250925
DTEND;VALUE=DATE:20250926
DTSTAMP:20260421T162959
CREATED:20250523T012724Z
LAST-MODIFIED:20250523T012724Z
UID:2831-1758758400-1758844799@oceanlakes-football.com
SUMMARY:JV OL v. BAYSIDE 630pm
DESCRIPTION:
URL:https://oceanlakes-football.com/event/jv-ol-v-bayside-630pm/
CATEGORIES:Calendar
END:VEVENT
BEGIN:VEVENT
DTSTART;VALUE=DATE:20250924
DTEND;VALUE=DATE:20250925
DTSTAMP:20260421T162959
CREATED:20250523T012921Z
LAST-MODIFIED:20250523T012921Z
UID:2827-1758672000-1758758399@oceanlakes-football.com
SUMMARY:PRACTICE 330-6pm
DESCRIPTION:
URL:https://oceanlakes-football.com/event/practice-330-6pm-15/
CATEGORIES:Calendar
END:VEVENT
BEGIN:VEVENT
DTSTART;VALUE=DATE:20250923
DTEND;VALUE=DATE:20250924
DTSTAMP:20260421T162959
CREATED:20250523T012853Z
LAST-MODIFIED:20250523T013114Z
UID:2826-1758585600-1758671999@oceanlakes-football.com
SUMMARY:PRACTICE 330-6pm
DESCRIPTION:
URL:https://oceanlakes-football.com/event/practice-330-6pm-14/
CATEGORIES:Calendar
END:VEVENT
BEGIN:VEVENT
DTSTART;VALUE=DATE:20250922
DTEND;VALUE=DATE:20250923
DTSTAMP:20260421T162959
CREATED:20250523T012144Z
LAST-MODIFIED:20250523T012144Z
UID:2800-1758499200-1758585599@oceanlakes-football.com
SUMMARY:PRACTICE 330-6pm
DESCRIPTION:
URL:https://oceanlakes-football.com/event/practice-330-6pm-13/
CATEGORIES:Calendar
END:VEVENT
BEGIN:VEVENT
DTSTART;VALUE=DATE:20250921
DTEND;VALUE=DATE:20250922
DTSTAMP:20260421T162959
CREATED:20250523T010524Z
LAST-MODIFIED:20250523T010524Z
UID:2771-1758412800-1758499199@oceanlakes-football.com
SUMMARY:NO PRACTICE
DESCRIPTION:
URL:https://oceanlakes-football.com/event/no-practice-18/
CATEGORIES:Calendar
END:VEVENT
BEGIN:VEVENT
DTSTART;VALUE=DATE:20250920
DTEND;VALUE=DATE:20250921
DTSTAMP:20260421T162959
CREATED:20250523T010656Z
LAST-MODIFIED:20250523T010656Z
UID:2781-1758326400-1758412799@oceanlakes-football.com
SUMMARY:NO PRACTICE
DESCRIPTION:
URL:https://oceanlakes-football.com/event/no-practice-21/
CATEGORIES:Calendar
END:VEVENT
BEGIN:VEVENT
DTSTART;VALUE=DATE:20250919
DTEND;VALUE=DATE:20250920
DTSTAMP:20260421T162959
CREATED:20250523T012618Z
LAST-MODIFIED:20250523T012618Z
UID:2822-1758240000-1758326399@oceanlakes-football.com
SUMMARY:OLHS v. Kellam HS 7pm
DESCRIPTION:
URL:https://oceanlakes-football.com/event/olhs-v-kellam-hs-7pm/
CATEGORIES:Calendar
END:VEVENT
BEGIN:VEVENT
DTSTART;VALUE=DATE:20250918
DTEND;VALUE=DATE:20250919
DTSTAMP:20260421T162959
CREATED:20250523T012554Z
LAST-MODIFIED:20250523T012554Z
UID:2821-1758153600-1758239999@oceanlakes-football.com
SUMMARY:JV OL v. LANDSTOWN 630pm
DESCRIPTION:
URL:https://oceanlakes-football.com/event/jv-ol-v-landstown-630pm/
CATEGORIES:Calendar
END:VEVENT
BEGIN:VEVENT
DTSTART;VALUE=DATE:20250918
DTEND;VALUE=DATE:20250919
DTSTAMP:20260421T162959
CREATED:20250523T012536Z
LAST-MODIFIED:20250523T012536Z
UID:2820-1758153600-1758239999@oceanlakes-football.com
SUMMARY:PRACTICE 330-530pm
DESCRIPTION:
URL:https://oceanlakes-football.com/event/practice-330-530pm-2/
CATEGORIES:Calendar
END:VEVENT
BEGIN:VEVENT
DTSTART;VALUE=DATE:20250917
DTEND;VALUE=DATE:20250918
DTSTAMP:20260421T162959
CREATED:20250523T012115Z
LAST-MODIFIED:20250523T012115Z
UID:2799-1758067200-1758153599@oceanlakes-football.com
SUMMARY:PRACTICE 330-6pm
DESCRIPTION:
URL:https://oceanlakes-football.com/event/practice-330-6pm-12/
CATEGORIES:Calendar
END:VEVENT
BEGIN:VEVENT
DTSTART;VALUE=DATE:20250916
DTEND;VALUE=DATE:20250917
DTSTAMP:20260421T162959
CREATED:20250523T012054Z
LAST-MODIFIED:20250523T012054Z
UID:2798-1757980800-1758067199@oceanlakes-football.com
SUMMARY:PRACTICE 330-6pm
DESCRIPTION:
URL:https://oceanlakes-football.com/event/practice-330-6pm-11/
CATEGORIES:Calendar
END:VEVENT
BEGIN:VEVENT
DTSTART;VALUE=DATE:20250915
DTEND;VALUE=DATE:20250916
DTSTAMP:20260421T162959
CREATED:20250523T012041Z
LAST-MODIFIED:20250523T012041Z
UID:2797-1757894400-1757980799@oceanlakes-football.com
SUMMARY:PRACTICE 330-6pm
DESCRIPTION:
URL:https://oceanlakes-football.com/event/practice-330-6pm-10/
CATEGORIES:Calendar
END:VEVENT
BEGIN:VEVENT
DTSTART;VALUE=DATE:20250914
DTEND;VALUE=DATE:20250915
DTSTAMP:20260421T162959
CREATED:20250523T010435Z
LAST-MODIFIED:20250523T010435Z
UID:2773-1757808000-1757894399@oceanlakes-football.com
SUMMARY:NO PRACTICE
DESCRIPTION:
URL:https://oceanlakes-football.com/event/no-practice-16/
CATEGORIES:Calendar
END:VEVENT
BEGIN:VEVENT
DTSTART;VALUE=DATE:20250913
DTEND;VALUE=DATE:20250914
DTSTAMP:20260421T162959
CREATED:20250523T010640Z
LAST-MODIFIED:20250523T010640Z
UID:2779-1757721600-1757807999@oceanlakes-football.com
SUMMARY:NO PRACTICE
DESCRIPTION:
URL:https://oceanlakes-football.com/event/no-practice-20/
CATEGORIES:Calendar
END:VEVENT
BEGIN:VEVENT
DTSTART;VALUE=DATE:20250912
DTEND;VALUE=DATE:20250913
DTSTAMP:20260421T162959
CREATED:20250523T012438Z
LAST-MODIFIED:20250523T012438Z
UID:2817-1757635200-1757721599@oceanlakes-football.com
SUMMARY:OLHS @ Tallwood HS 7pm
DESCRIPTION:
URL:https://oceanlakes-football.com/event/olhs-tallwood-hs-7pm/
CATEGORIES:Calendar
END:VEVENT
BEGIN:VEVENT
DTSTART;VALUE=DATE:20250911
DTEND;VALUE=DATE:20250912
DTSTAMP:20260421T162959
CREATED:20250523T012419Z
LAST-MODIFIED:20250523T012419Z
UID:2816-1757548800-1757635199@oceanlakes-football.com
SUMMARY:JV OL v. SALEM 630pm
DESCRIPTION:
URL:https://oceanlakes-football.com/event/jv-ol-v-salem-630pm/
CATEGORIES:Calendar
END:VEVENT
BEGIN:VEVENT
DTSTART;VALUE=DATE:20250911
DTEND;VALUE=DATE:20250912
DTSTAMP:20260421T162959
CREATED:20250523T012025Z
LAST-MODIFIED:20250523T012025Z
UID:2796-1757548800-1757635199@oceanlakes-football.com
SUMMARY:PRACTICE 330-530pm
DESCRIPTION:
URL:https://oceanlakes-football.com/event/practice-330-530pm/
CATEGORIES:Calendar
END:VEVENT
BEGIN:VEVENT
DTSTART;VALUE=DATE:20250910
DTEND;VALUE=DATE:20250911
DTSTAMP:20260421T162959
CREATED:20250523T012004Z
LAST-MODIFIED:20250523T012004Z
UID:2795-1757462400-1757548799@oceanlakes-football.com
SUMMARY:PRACTICE 330-6pm
DESCRIPTION:
URL:https://oceanlakes-football.com/event/practice-330-6pm-9/
CATEGORIES:Calendar
END:VEVENT
BEGIN:VEVENT
DTSTART;VALUE=DATE:20250909
DTEND;VALUE=DATE:20250910
DTSTAMP:20260421T162959
CREATED:20250523T011949Z
LAST-MODIFIED:20250523T011949Z
UID:2794-1757376000-1757462399@oceanlakes-football.com
SUMMARY:PRACTICE 330-6pm
DESCRIPTION:
URL:https://oceanlakes-football.com/event/practice-330-6pm-8/
CATEGORIES:Calendar
END:VEVENT
BEGIN:VEVENT
DTSTART;VALUE=DATE:20250908
DTEND;VALUE=DATE:20250909
DTSTAMP:20260421T162959
CREATED:20250523T011933Z
LAST-MODIFIED:20250523T011933Z
UID:2793-1757289600-1757375999@oceanlakes-football.com
SUMMARY:PRACTICE 330-6pm
DESCRIPTION:
URL:https://oceanlakes-football.com/event/practice-330-6pm-7/
CATEGORIES:Calendar
END:VEVENT
BEGIN:VEVENT
DTSTART;VALUE=DATE:20250907
DTEND;VALUE=DATE:20250908
DTSTAMP:20260421T162959
CREATED:20250523T010409Z
LAST-MODIFIED:20250523T010409Z
UID:2774-1757203200-1757289599@oceanlakes-football.com
SUMMARY:NO PRACTICE
DESCRIPTION:
URL:https://oceanlakes-football.com/event/no-practice-15/
CATEGORIES:Calendar
END:VEVENT
BEGIN:VEVENT
DTSTART;VALUE=DATE:20250906
DTEND;VALUE=DATE:20250907
DTSTAMP:20260421T162959
CREATED:20250523T010623Z
LAST-MODIFIED:20250523T010623Z
UID:2782-1757116800-1757203199@oceanlakes-football.com
SUMMARY:NO PRACTICE
DESCRIPTION:
URL:https://oceanlakes-football.com/event/no-practice-19/
CATEGORIES:Calendar
END:VEVENT
BEGIN:VEVENT
DTSTART;VALUE=DATE:20250905
DTEND;VALUE=DATE:20250906
DTSTAMP:20260421T162959
CREATED:20250523T012322Z
LAST-MODIFIED:20250523T012322Z
UID:2814-1757030400-1757116799@oceanlakes-football.com
SUMMARY:OLHS @ First Colonial 7pm
DESCRIPTION:
URL:https://oceanlakes-football.com/event/olhs-first-colonial-7pm/
CATEGORIES:Calendar
END:VEVENT
BEGIN:VEVENT
DTSTART;VALUE=DATE:20250904
DTEND;VALUE=DATE:20250905
DTSTAMP:20260421T162959
CREATED:20250523T012235Z
LAST-MODIFIED:20250903T212246Z
UID:2812-1756944000-1757030399@oceanlakes-football.com
SUMMARY:JV SCRIMMAGE vs Kempsville 630pm @ OLHS
DESCRIPTION:
URL:https://oceanlakes-football.com/event/jv-scrimmage-630pm-olhs/
CATEGORIES:Calendar
END:VEVENT
BEGIN:VEVENT
DTSTART;VALUE=DATE:20250904
DTEND;VALUE=DATE:20250905
DTSTAMP:20260421T162959
CREATED:20250523T011828Z
LAST-MODIFIED:20250523T011918Z
UID:2791-1756944000-1757030399@oceanlakes-football.com
SUMMARY:PRACTICE 330-530pm
DESCRIPTION:
URL:https://oceanlakes-football.com/event/practice-330-6pm-5/
CATEGORIES:Calendar
END:VEVENT
BEGIN:VEVENT
DTSTART;VALUE=DATE:20250903
DTEND;VALUE=DATE:20250904
DTSTAMP:20260421T162959
CREATED:20250523T011847Z
LAST-MODIFIED:20250523T011847Z
UID:2792-1756857600-1756943999@oceanlakes-football.com
SUMMARY:PRACTICE 330-6pm
DESCRIPTION:
URL:https://oceanlakes-football.com/event/practice-330-6pm-6/
CATEGORIES:Calendar
END:VEVENT
END:VCALENDAR