BEGIN:VCALENDAR
VERSION:2.0
PRODID:-//Ocean Lakes High School Football - ECPv6.15.20//NONSGML v1.0//EN
CALSCALE:GREGORIAN
METHOD:PUBLISH
X-WR-CALNAME:Ocean Lakes High School Football
X-ORIGINAL-URL:https://oceanlakes-football.com
X-WR-CALDESC:Events for Ocean Lakes High School Football
REFRESH-INTERVAL;VALUE=DURATION:PT1H
X-Robots-Tag:noindex
X-PUBLISHED-TTL:PT1H
BEGIN:VTIMEZONE
TZID:UTC
BEGIN:STANDARD
TZOFFSETFROM:+0000
TZOFFSETTO:+0000
TZNAME:UTC
DTSTART:20240101T000000
END:STANDARD
END:VTIMEZONE
BEGIN:VEVENT
DTSTART;VALUE=DATE:20251030
DTEND;VALUE=DATE:20251031
DTSTAMP:20260421T114910
CREATED:20250523T013646Z
LAST-MODIFIED:20250523T013646Z
UID:2843-1761782400-1761868799@oceanlakes-football.com
SUMMARY:PRACTICE 330-530pm
DESCRIPTION:
URL:https://oceanlakes-football.com/event/practice-330-530pm-8/
CATEGORIES:Calendar
END:VEVENT
BEGIN:VEVENT
DTSTART;VALUE=DATE:20251029
DTEND;VALUE=DATE:20251030
DTSTAMP:20260421T114910
CREATED:20250523T015508Z
LAST-MODIFIED:20250809T180723Z
UID:2928-1761696000-1761782399@oceanlakes-football.com
SUMMARY:JV OL v. TALLWOOD 630pm
DESCRIPTION:
URL:https://oceanlakes-football.com/event/jv-ol-v-tallwood-630pm/
CATEGORIES:Calendar
END:VEVENT
BEGIN:VEVENT
DTSTART;VALUE=DATE:20251029
DTEND;VALUE=DATE:20251030
DTSTAMP:20260421T114910
CREATED:20250523T013816Z
LAST-MODIFIED:20250523T013816Z
UID:2862-1761696000-1761782399@oceanlakes-football.com
SUMMARY:PRACTICE 330-6pm
DESCRIPTION:
URL:https://oceanlakes-football.com/event/practice-330-6pm-18/
CATEGORIES:Calendar
END:VEVENT
BEGIN:VEVENT
DTSTART;VALUE=DATE:20251028
DTEND;VALUE=DATE:20251029
DTSTAMP:20260421T114910
CREATED:20250523T013831Z
LAST-MODIFIED:20250523T013831Z
UID:2861-1761609600-1761695999@oceanlakes-football.com
SUMMARY:PRACTICE 330-6pm
DESCRIPTION:
URL:https://oceanlakes-football.com/event/practice-330-6pm-19/
CATEGORIES:Calendar
END:VEVENT
BEGIN:VEVENT
DTSTART;VALUE=DATE:20251027
DTEND;VALUE=DATE:20251028
DTSTAMP:20260421T114910
CREATED:20250523T013846Z
LAST-MODIFIED:20250523T013846Z
UID:2860-1761523200-1761609599@oceanlakes-football.com
SUMMARY:PRACTICE 330-6pm
DESCRIPTION:
URL:https://oceanlakes-football.com/event/practice-330-6pm-20/
CATEGORIES:Calendar
END:VEVENT
BEGIN:VEVENT
DTSTART;VALUE=DATE:20251026
DTEND;VALUE=DATE:20251027
DTSTAMP:20260421T114910
CREATED:20250523T014248Z
LAST-MODIFIED:20250523T014248Z
UID:2877-1761436800-1761523199@oceanlakes-football.com
SUMMARY:NO PRACTICE
DESCRIPTION:
URL:https://oceanlakes-football.com/event/no-practice-23/
CATEGORIES:Calendar
END:VEVENT
BEGIN:VEVENT
DTSTART;VALUE=DATE:20251025
DTEND;VALUE=DATE:20251026
DTSTAMP:20260421T114910
CREATED:20250523T015333Z
LAST-MODIFIED:20250523T015333Z
UID:2920-1761350400-1761436799@oceanlakes-football.com
SUMMARY:NO PRACTICE
DESCRIPTION:
URL:https://oceanlakes-football.com/event/no-practice-35/
CATEGORIES:Calendar
END:VEVENT
BEGIN:VEVENT
DTSTART;VALUE=DATE:20251024
DTEND;VALUE=DATE:20251025
DTSTAMP:20260421T114910
CREATED:20250523T014905Z
LAST-MODIFIED:20250523T014905Z
UID:2907-1761264000-1761350399@oceanlakes-football.com
SUMMARY:OLHS @ Landstown HS 7pm
DESCRIPTION:
URL:https://oceanlakes-football.com/event/olhs-landstown-hs-7pm/
CATEGORIES:Calendar
END:VEVENT
BEGIN:VEVENT
DTSTART;VALUE=DATE:20251023
DTEND;VALUE=DATE:20251024
DTSTAMP:20260421T114910
CREATED:20250523T015452Z
LAST-MODIFIED:20250523T015452Z
UID:2926-1761177600-1761263999@oceanlakes-football.com
SUMMARY:JV OL @ PA 630pm
DESCRIPTION:
URL:https://oceanlakes-football.com/event/jv-ol-pa-630pm/
CATEGORIES:Calendar
END:VEVENT
BEGIN:VEVENT
DTSTART;VALUE=DATE:20251023
DTEND;VALUE=DATE:20251024
DTSTAMP:20260421T114910
CREATED:20250523T013624Z
LAST-MODIFIED:20250523T013624Z
UID:2842-1761177600-1761263999@oceanlakes-football.com
SUMMARY:PRACTICE 330-530pm
DESCRIPTION:
URL:https://oceanlakes-football.com/event/practice-330-530pm-7/
CATEGORIES:Calendar
END:VEVENT
BEGIN:VEVENT
DTSTART;VALUE=DATE:20251022
DTEND;VALUE=DATE:20251023
DTSTAMP:20260421T114910
CREATED:20250523T013859Z
LAST-MODIFIED:20250523T013859Z
UID:2859-1761091200-1761177599@oceanlakes-football.com
SUMMARY:PRACTICE 330-6pm
DESCRIPTION:
URL:https://oceanlakes-football.com/event/practice-330-6pm-21/
CATEGORIES:Calendar
END:VEVENT
BEGIN:VEVENT
DTSTART;VALUE=DATE:20251021
DTEND;VALUE=DATE:20251022
DTSTAMP:20260421T114910
CREATED:20250523T013912Z
LAST-MODIFIED:20250523T013912Z
UID:2858-1761004800-1761091199@oceanlakes-football.com
SUMMARY:PRACTICE 330-6pm
DESCRIPTION:
URL:https://oceanlakes-football.com/event/practice-330-6pm-22/
CATEGORIES:Calendar
END:VEVENT
BEGIN:VEVENT
DTSTART;VALUE=DATE:20251020
DTEND;VALUE=DATE:20251021
DTSTAMP:20260421T114910
CREATED:20250523T013928Z
LAST-MODIFIED:20250523T013928Z
UID:2857-1760918400-1761004799@oceanlakes-football.com
SUMMARY:PRACTICE 330-6pm
DESCRIPTION:
URL:https://oceanlakes-football.com/event/practice-330-6pm-23/
CATEGORIES:Calendar
END:VEVENT
BEGIN:VEVENT
DTSTART;VALUE=DATE:20251019
DTEND;VALUE=DATE:20251020
DTSTAMP:20260421T114910
CREATED:20250523T014328Z
LAST-MODIFIED:20250523T014328Z
UID:2879-1760832000-1760918399@oceanlakes-football.com
SUMMARY:NO PRACTICE
DESCRIPTION:
URL:https://oceanlakes-football.com/event/no-practice-25/
CATEGORIES:Calendar
END:VEVENT
BEGIN:VEVENT
DTSTART;VALUE=DATE:20251018
DTEND;VALUE=DATE:20251019
DTSTAMP:20260421T114910
CREATED:20250523T014358Z
LAST-MODIFIED:20250523T014358Z
UID:2880-1760745600-1760831999@oceanlakes-football.com
SUMMARY:NO PRACTICE
DESCRIPTION:
URL:https://oceanlakes-football.com/event/no-practice-26/
CATEGORIES:Calendar
END:VEVENT
BEGIN:VEVENT
DTSTART;VALUE=DATE:20251017
DTEND;VALUE=DATE:20251018
DTSTAMP:20260421T114910
CREATED:20250523T014924Z
LAST-MODIFIED:20250523T014924Z
UID:2906-1760659200-1760745599@oceanlakes-football.com
SUMMARY:OLHS v. Salem HS 7pm
DESCRIPTION:
URL:https://oceanlakes-football.com/event/olhs-v-salem-hs-7pm/
CATEGORIES:Calendar
END:VEVENT
BEGIN:VEVENT
DTSTART;VALUE=DATE:20251016
DTEND;VALUE=DATE:20251017
DTSTAMP:20260421T114910
CREATED:20250523T015433Z
LAST-MODIFIED:20250523T015433Z
UID:2924-1760572800-1760659199@oceanlakes-football.com
SUMMARY:JV BYE
DESCRIPTION:
URL:https://oceanlakes-football.com/event/jv-bye-2/
CATEGORIES:Calendar
END:VEVENT
BEGIN:VEVENT
DTSTART;VALUE=DATE:20251016
DTEND;VALUE=DATE:20251017
DTSTAMP:20260421T114910
CREATED:20250523T013609Z
LAST-MODIFIED:20250523T013609Z
UID:2841-1760572800-1760659199@oceanlakes-football.com
SUMMARY:PRACTICE 330-530pm
DESCRIPTION:
URL:https://oceanlakes-football.com/event/practice-330-530pm-6/
CATEGORIES:Calendar
END:VEVENT
BEGIN:VEVENT
DTSTART;VALUE=DATE:20251015
DTEND;VALUE=DATE:20251016
DTSTAMP:20260421T114910
CREATED:20250523T013946Z
LAST-MODIFIED:20250523T013946Z
UID:2856-1760486400-1760572799@oceanlakes-football.com
SUMMARY:PRACTICE 330-6pm
DESCRIPTION:
URL:https://oceanlakes-football.com/event/practice-330-6pm-24/
CATEGORIES:Calendar
END:VEVENT
BEGIN:VEVENT
DTSTART;VALUE=DATE:20251014
DTEND;VALUE=DATE:20251015
DTSTAMP:20260421T114910
CREATED:20250523T014001Z
LAST-MODIFIED:20250523T014001Z
UID:2855-1760400000-1760486399@oceanlakes-football.com
SUMMARY:PRACTICE 330-6pm
DESCRIPTION:
URL:https://oceanlakes-football.com/event/practice-330-6pm-25/
CATEGORIES:Calendar
END:VEVENT
BEGIN:VEVENT
DTSTART;VALUE=DATE:20251013
DTEND;VALUE=DATE:20251014
DTSTAMP:20260421T114910
CREATED:20250523T014015Z
LAST-MODIFIED:20250523T014015Z
UID:2854-1760313600-1760399999@oceanlakes-football.com
SUMMARY:PRACTICE 330-6pm
DESCRIPTION:
URL:https://oceanlakes-football.com/event/practice-330-6pm-26/
CATEGORIES:Calendar
END:VEVENT
BEGIN:VEVENT
DTSTART;VALUE=DATE:20251012
DTEND;VALUE=DATE:20251013
DTSTAMP:20260421T114910
CREATED:20250523T015219Z
LAST-MODIFIED:20250523T015219Z
UID:2914-1760227200-1760313599@oceanlakes-football.com
SUMMARY:NO PRACTICE
DESCRIPTION:
URL:https://oceanlakes-football.com/event/no-practice-34/
CATEGORIES:Calendar
END:VEVENT
BEGIN:VEVENT
DTSTART;VALUE=DATE:20251011
DTEND;VALUE=DATE:20251012
DTSTAMP:20260421T114910
CREATED:20250523T015154Z
LAST-MODIFIED:20250523T015154Z
UID:2915-1760140800-1760227199@oceanlakes-football.com
SUMMARY:NO PRACTICE
DESCRIPTION:
URL:https://oceanlakes-football.com/event/no-practice-33/
CATEGORIES:Calendar
END:VEVENT
BEGIN:VEVENT
DTSTART;VALUE=DATE:20251010
DTEND;VALUE=DATE:20251011
DTSTAMP:20260421T114910
CREATED:20250523T015003Z
LAST-MODIFIED:20250523T015003Z
UID:2905-1760054400-1760140799@oceanlakes-football.com
SUMMARY:OLHS @ Kempsville HS 7pm
DESCRIPTION:
URL:https://oceanlakes-football.com/event/olhs-kempsville-hs-7pm/
CATEGORIES:Calendar
END:VEVENT
BEGIN:VEVENT
DTSTART;VALUE=DATE:20251009
DTEND;VALUE=DATE:20251010
DTSTAMP:20260421T114910
CREATED:20250523T015413Z
LAST-MODIFIED:20250523T015413Z
UID:2922-1759968000-1760054399@oceanlakes-football.com
SUMMARY:JV OL @ COX 630pm
DESCRIPTION:
URL:https://oceanlakes-football.com/event/jv-ol-cox-630pm/
CATEGORIES:Calendar
END:VEVENT
BEGIN:VEVENT
DTSTART;VALUE=DATE:20251009
DTEND;VALUE=DATE:20251010
DTSTAMP:20260421T114910
CREATED:20250523T013552Z
LAST-MODIFIED:20250523T013552Z
UID:2844-1759968000-1760054399@oceanlakes-football.com
SUMMARY:PRACTICE 330-530pm
DESCRIPTION:
URL:https://oceanlakes-football.com/event/practice-330-530pm-5/
CATEGORIES:Calendar
END:VEVENT
BEGIN:VEVENT
DTSTART;VALUE=DATE:20251008
DTEND;VALUE=DATE:20251009
DTSTAMP:20260421T114910
CREATED:20250523T014032Z
LAST-MODIFIED:20250523T014032Z
UID:2853-1759881600-1759967999@oceanlakes-football.com
SUMMARY:PRACTICE 330-6pm
DESCRIPTION:
URL:https://oceanlakes-football.com/event/practice-330-6pm-27/
CATEGORIES:Calendar
END:VEVENT
BEGIN:VEVENT
DTSTART;VALUE=DATE:20251007
DTEND;VALUE=DATE:20251008
DTSTAMP:20260421T114910
CREATED:20250523T014046Z
LAST-MODIFIED:20250523T014046Z
UID:2852-1759795200-1759881599@oceanlakes-football.com
SUMMARY:PRACTICE 330-6pm
DESCRIPTION:
URL:https://oceanlakes-football.com/event/practice-330-6pm-28/
CATEGORIES:Calendar
END:VEVENT
BEGIN:VEVENT
DTSTART;VALUE=DATE:20251006
DTEND;VALUE=DATE:20251007
DTSTAMP:20260421T114910
CREATED:20250523T014102Z
LAST-MODIFIED:20250523T014102Z
UID:2851-1759708800-1759795199@oceanlakes-football.com
SUMMARY:PRACTICE 330-6pm
DESCRIPTION:
URL:https://oceanlakes-football.com/event/practice-330-6pm-29/
CATEGORIES:Calendar
END:VEVENT
BEGIN:VEVENT
DTSTART;VALUE=DATE:20251005
DTEND;VALUE=DATE:20251006
DTSTAMP:20260421T114910
CREATED:20250523T015136Z
LAST-MODIFIED:20250523T015136Z
UID:2916-1759622400-1759708799@oceanlakes-football.com
SUMMARY:NO PRACTICE
DESCRIPTION:
URL:https://oceanlakes-football.com/event/no-practice-32/
CATEGORIES:Calendar
END:VEVENT
END:VCALENDAR