BEGIN:VCALENDAR
VERSION:2.0
PRODID:-//Ocean Lakes High School Football - ECPv6.15.20//NONSGML v1.0//EN
CALSCALE:GREGORIAN
METHOD:PUBLISH
X-ORIGINAL-URL:https://oceanlakes-football.com
X-WR-CALDESC:Events for Ocean Lakes High School Football
REFRESH-INTERVAL;VALUE=DURATION:PT1H
X-Robots-Tag:noindex
X-PUBLISHED-TTL:PT1H
BEGIN:VTIMEZONE
TZID:UTC
BEGIN:STANDARD
TZOFFSETFROM:+0000
TZOFFSETTO:+0000
TZNAME:UTC
DTSTART:20240101T000000
END:STANDARD
END:VTIMEZONE
BEGIN:VEVENT
DTSTART;VALUE=DATE:20250624
DTEND;VALUE=DATE:20250625
DTSTAMP:20260422T032210
CREATED:20250425T004057Z
LAST-MODIFIED:20250425T004057Z
UID:2595-1750723200-1750809599@oceanlakes-football.com
SUMMARY:TNDO @ 5PM
DESCRIPTION:
URL:https://oceanlakes-football.com/event/tndo-5pm-52/
CATEGORIES:Calendar
END:VEVENT
BEGIN:VEVENT
DTSTART;VALUE=DATE:20250623
DTEND;VALUE=DATE:20250624
DTSTAMP:20260422T032210
CREATED:20250425T004038Z
LAST-MODIFIED:20250425T004038Z
UID:2593-1750636800-1750723199@oceanlakes-football.com
SUMMARY:TNDO @ 5PM
DESCRIPTION:
URL:https://oceanlakes-football.com/event/tndo-5pm-51/
CATEGORIES:Calendar
END:VEVENT
BEGIN:VEVENT
DTSTART;VALUE=DATE:20250621
DTEND;VALUE=DATE:20250622
DTSTAMP:20260422T032210
CREATED:20250425T004444Z
LAST-MODIFIED:20250425T004444Z
UID:2605-1750464000-1750550399@oceanlakes-football.com
SUMMARY:OLHS FIELDWORK 10-12PM
DESCRIPTION:
URL:https://oceanlakes-football.com/event/olhs-fieldwork-10-12pm-7/
CATEGORIES:Calendar
END:VEVENT
BEGIN:VEVENT
DTSTART;VALUE=DATE:20250620
DTEND;VALUE=DATE:20250621
DTSTAMP:20260422T032210
CREATED:20250425T005407Z
LAST-MODIFIED:20250425T005407Z
UID:2631-1750377600-1750463999@oceanlakes-football.com
SUMMARY:OLHS LIFTS 4-630PM
DESCRIPTION:
URL:https://oceanlakes-football.com/event/olhs-lifts-4-630pm-3/
CATEGORIES:Calendar
END:VEVENT
BEGIN:VEVENT
DTSTART;VALUE=DATE:20250619
DTEND;VALUE=DATE:20250620
DTSTAMP:20260422T032210
CREATED:20250425T004905Z
LAST-MODIFIED:20250425T004905Z
UID:2621-1750291200-1750377599@oceanlakes-football.com
SUMMARY:OLHS Youth Camp 8-1pm
DESCRIPTION:
URL:https://oceanlakes-football.com/event/olhs-youth-camp-8-1pm-4/
CATEGORIES:Calendar
END:VEVENT
BEGIN:VEVENT
DTSTART;VALUE=DATE:20250619
DTEND;VALUE=DATE:20250620
DTSTAMP:20260422T032210
CREATED:20250425T004013Z
LAST-MODIFIED:20250425T004013Z
UID:2591-1750291200-1750377599@oceanlakes-football.com
SUMMARY:TNDO @ 5PM
DESCRIPTION:
URL:https://oceanlakes-football.com/event/tndo-5pm-50/
CATEGORIES:Calendar
END:VEVENT
BEGIN:VEVENT
DTSTART;VALUE=DATE:20250618
DTEND;VALUE=DATE:20250619
DTSTAMP:20260422T032210
CREATED:20250425T005347Z
LAST-MODIFIED:20250523T015915Z
UID:2629-1750204800-1750291199@oceanlakes-football.com
SUMMARY:OLHS LIFTS & FIELDWORK 4-630PM
DESCRIPTION:
URL:https://oceanlakes-football.com/event/olhs-lifts-4-630pm-2/
CATEGORIES:Calendar
END:VEVENT
BEGIN:VEVENT
DTSTART;VALUE=DATE:20250618
DTEND;VALUE=DATE:20250619
DTSTAMP:20260422T032210
CREATED:20250425T004850Z
LAST-MODIFIED:20250425T004850Z
UID:2622-1750204800-1750291199@oceanlakes-football.com
SUMMARY:OLHS Youth Camp 8-1pm
DESCRIPTION:
URL:https://oceanlakes-football.com/event/olhs-youth-camp-8-1pm-3/
CATEGORIES:Calendar
END:VEVENT
BEGIN:VEVENT
DTSTART;VALUE=DATE:20250617
DTEND;VALUE=DATE:20250618
DTSTAMP:20260422T032210
CREATED:20250425T004826Z
LAST-MODIFIED:20250425T004826Z
UID:2619-1750118400-1750204799@oceanlakes-football.com
SUMMARY:OLHS Youth Camp 8-1pm
DESCRIPTION:
URL:https://oceanlakes-football.com/event/olhs-youth-camp-8-1pm-2/
CATEGORIES:Calendar
END:VEVENT
BEGIN:VEVENT
DTSTART;VALUE=DATE:20250617
DTEND;VALUE=DATE:20250618
DTSTAMP:20260422T032210
CREATED:20250425T003947Z
LAST-MODIFIED:20250425T003947Z
UID:2589-1750118400-1750204799@oceanlakes-football.com
SUMMARY:TNDO @ 5PM
DESCRIPTION:
URL:https://oceanlakes-football.com/event/tndo-5pm-49/
CATEGORIES:Calendar
END:VEVENT
BEGIN:VEVENT
DTSTART;VALUE=DATE:20250616
DTEND;VALUE=DATE:20250617
DTSTAMP:20260422T032210
CREATED:20250425T005325Z
LAST-MODIFIED:20250425T005325Z
UID:2627-1750032000-1750118399@oceanlakes-football.com
SUMMARY:OLHS LIFTS 4-630PM
DESCRIPTION:
URL:https://oceanlakes-football.com/event/olhs-lifts-4-630pm/
CATEGORIES:Calendar
END:VEVENT
BEGIN:VEVENT
DTSTART;VALUE=DATE:20250616
DTEND;VALUE=DATE:20250617
DTSTAMP:20260422T032210
CREATED:20250425T004809Z
LAST-MODIFIED:20250425T004809Z
UID:2617-1750032000-1750118399@oceanlakes-football.com
SUMMARY:OLHS Youth Camp 8-1pm
DESCRIPTION:
URL:https://oceanlakes-football.com/event/olhs-youth-camp-8-1pm/
CATEGORIES:Calendar
END:VEVENT
BEGIN:VEVENT
DTSTART;VALUE=DATE:20250616
DTEND;VALUE=DATE:20250617
DTSTAMP:20260422T032210
CREATED:20250425T003931Z
LAST-MODIFIED:20250425T003931Z
UID:2587-1750032000-1750118399@oceanlakes-football.com
SUMMARY:TNDO @ 5PM
DESCRIPTION:
URL:https://oceanlakes-football.com/event/tndo-5pm-48/
CATEGORIES:Calendar
END:VEVENT
BEGIN:VEVENT
DTSTART;VALUE=DATE:20250614
DTEND;VALUE=DATE:20250615
DTSTAMP:20260422T032210
CREATED:20250425T004422Z
LAST-MODIFIED:20250425T004422Z
UID:2606-1749859200-1749945599@oceanlakes-football.com
SUMMARY:OLHS FIELDWORK 10-12PM
DESCRIPTION:
URL:https://oceanlakes-football.com/event/olhs-fieldwork-10-12pm-6/
CATEGORIES:Calendar
END:VEVENT
BEGIN:VEVENT
DTSTART;VALUE=DATE:20250613
DTEND;VALUE=DATE:20250614
DTSTAMP:20260422T032210
CREATED:20250425T005248Z
LAST-MODIFIED:20250425T005248Z
UID:2625-1749772800-1749859199@oceanlakes-football.com
SUMMARY:NO LIFTS
DESCRIPTION:
URL:https://oceanlakes-football.com/event/no-lifts/
CATEGORIES:Calendar
END:VEVENT
BEGIN:VEVENT
DTSTART;VALUE=DATE:20250612
DTEND;VALUE=DATE:20250613
DTSTAMP:20260422T032210
CREATED:20250425T003835Z
LAST-MODIFIED:20250425T003835Z
UID:2585-1749686400-1749772799@oceanlakes-football.com
SUMMARY:TNDO @ 5PM
DESCRIPTION:
URL:https://oceanlakes-football.com/event/tndo-5pm-47/
CATEGORIES:Calendar
END:VEVENT
BEGIN:VEVENT
DTSTART;VALUE=DATE:20250611
DTEND;VALUE=DATE:20250612
DTSTAMP:20260422T032210
CREATED:20250425T004720Z
LAST-MODIFIED:20250523T015807Z
UID:2615-1749600000-1749686399@oceanlakes-football.com
SUMMARY:NO LIFTS
DESCRIPTION:
URL:https://oceanlakes-football.com/event/olhs-weight-room-1230-2pm/
CATEGORIES:Calendar
END:VEVENT
BEGIN:VEVENT
DTSTART;VALUE=DATE:20250610
DTEND;VALUE=DATE:20250611
DTSTAMP:20260422T032210
CREATED:20250425T003806Z
LAST-MODIFIED:20250425T003806Z
UID:2583-1749513600-1749599999@oceanlakes-football.com
SUMMARY:TNDO @ 5PM
DESCRIPTION:
URL:https://oceanlakes-football.com/event/tndo-5pm-46/
CATEGORIES:Calendar
END:VEVENT
BEGIN:VEVENT
DTSTART;VALUE=DATE:20250609
DTEND;VALUE=DATE:20250610
DTSTAMP:20260422T032210
CREATED:20250425T003750Z
LAST-MODIFIED:20250425T003750Z
UID:2581-1749427200-1749513599@oceanlakes-football.com
SUMMARY:TNDO @ 5PM
DESCRIPTION:
URL:https://oceanlakes-football.com/event/tndo-5pm-45/
CATEGORIES:Calendar
END:VEVENT
BEGIN:VEVENT
DTSTART;VALUE=DATE:20250607
DTEND;VALUE=DATE:20250608
DTSTAMP:20260422T032210
CREATED:20250425T004401Z
LAST-MODIFIED:20250529T125113Z
UID:2607-1749254400-1749340799@oceanlakes-football.com
SUMMARY:OLHS FIELDWORK 9-12PM - bring athletic shoes and cleats
DESCRIPTION:
URL:https://oceanlakes-football.com/event/olhs-fieldwork-10-12pm-5/
CATEGORIES:Calendar
END:VEVENT
BEGIN:VEVENT
DTSTART;VALUE=DATE:20250605
DTEND;VALUE=DATE:20250606
DTSTAMP:20260422T032210
CREATED:20250425T003715Z
LAST-MODIFIED:20250425T003715Z
UID:2579-1749081600-1749167999@oceanlakes-football.com
SUMMARY:TNDO @ 5PM
DESCRIPTION:
URL:https://oceanlakes-football.com/event/tndo-5pm-44/
CATEGORIES:Calendar
END:VEVENT
BEGIN:VEVENT
DTSTART;VALUE=DATE:20250604
DTEND;VALUE=DATE:20250605
DTSTAMP:20260422T032210
CREATED:20250529T125345Z
LAST-MODIFIED:20250529T125345Z
UID:2937-1748995200-1749081599@oceanlakes-football.com
SUMMARY:7v7 v. Churchland HS @Portsmouth Sportsplex 530-7p
DESCRIPTION:
URL:https://oceanlakes-football.com/event/7v7-v-churchland-hs-portsmouth-sportsplex-530-7p/
CATEGORIES:Calendar
END:VEVENT
BEGIN:VEVENT
DTSTART;VALUE=DATE:20250604
DTEND;VALUE=DATE:20250605
DTSTAMP:20260422T032210
CREATED:20250425T004250Z
LAST-MODIFIED:20250529T125223Z
UID:2601-1748995200-1749081599@oceanlakes-football.com
SUMMARY:OLHS WEIGHT ROOM 2-4PM
DESCRIPTION:
URL:https://oceanlakes-football.com/event/olhs-weight-room-2-5pm-14/
CATEGORIES:Calendar
END:VEVENT
BEGIN:VEVENT
DTSTART;VALUE=DATE:20250603
DTEND;VALUE=DATE:20250604
DTSTAMP:20260422T032210
CREATED:20250425T003632Z
LAST-MODIFIED:20250425T003632Z
UID:2577-1748908800-1748995199@oceanlakes-football.com
SUMMARY:TNDO @ 5PM
DESCRIPTION:
URL:https://oceanlakes-football.com/event/tndo-5pm-43/
CATEGORIES:Calendar
END:VEVENT
BEGIN:VEVENT
DTSTART;VALUE=DATE:20250602
DTEND;VALUE=DATE:20250603
DTSTAMP:20260422T032210
CREATED:20250425T000408Z
LAST-MODIFIED:20250425T000408Z
UID:2572-1748822400-1748908799@oceanlakes-football.com
SUMMARY:TNDO @ 5PM
DESCRIPTION:
URL:https://oceanlakes-football.com/event/tndo-5pm-42/
CATEGORIES:Calendar
END:VEVENT
BEGIN:VEVENT
DTSTART;VALUE=DATE:20250531
DTEND;VALUE=DATE:20250601
DTSTAMP:20260422T032210
CREATED:20250424T195337Z
LAST-MODIFIED:20250424T195337Z
UID:2550-1748649600-1748735999@oceanlakes-football.com
SUMMARY:OLHS FIELDWORK 10-12PM
DESCRIPTION:
URL:https://oceanlakes-football.com/event/olhs-fieldwork-10-12pm-4/
CATEGORIES:Calendar
END:VEVENT
BEGIN:VEVENT
DTSTART;VALUE=DATE:20250530
DTEND;VALUE=DATE:20250531
DTSTAMP:20260422T032210
CREATED:20250424T195256Z
LAST-MODIFIED:20250424T195256Z
UID:2548-1748563200-1748649599@oceanlakes-football.com
SUMMARY:OLHS WEIGHT ROOM 2-430PM
DESCRIPTION:
URL:https://oceanlakes-football.com/event/olhs-weight-room-2-430pm-2/
CATEGORIES:Calendar
END:VEVENT
BEGIN:VEVENT
DTSTART;VALUE=DATE:20250529
DTEND;VALUE=DATE:20250530
DTSTAMP:20260422T032210
CREATED:20250424T194645Z
LAST-MODIFIED:20250424T194645Z
UID:2534-1748476800-1748563199@oceanlakes-football.com
SUMMARY:TNDO @ 5PM
DESCRIPTION:
URL:https://oceanlakes-football.com/event/tndo-5pm-39/
CATEGORIES:Calendar
END:VEVENT
BEGIN:VEVENT
DTSTART;VALUE=DATE:20250528
DTEND;VALUE=DATE:20250529
DTSTAMP:20260422T032210
CREATED:20250424T194606Z
LAST-MODIFIED:20250424T194606Z
UID:2532-1748390400-1748476799@oceanlakes-football.com
SUMMARY:OLHS WEIGHT ROOM 2-5PM
DESCRIPTION:
URL:https://oceanlakes-football.com/event/olhs-weight-room-2-5pm-13/
CATEGORIES:Calendar
END:VEVENT
BEGIN:VEVENT
DTSTART;VALUE=DATE:20250527
DTEND;VALUE=DATE:20250528
DTSTAMP:20260422T032210
CREATED:20250424T194322Z
LAST-MODIFIED:20250424T194322Z
UID:2530-1748304000-1748390399@oceanlakes-football.com
SUMMARY:TNDO @ 5PM
DESCRIPTION:
URL:https://oceanlakes-football.com/event/tndo-5pm-38/
CATEGORIES:Calendar
END:VEVENT
END:VCALENDAR